BEGIN:VCALENDAR
VERSION:2.0
PRODID:-//New Wine Ministry Church - ECPv6.10.1.1//NONSGML v1.0//EN
CALSCALE:GREGORIAN
METHOD:PUBLISH
X-ORIGINAL-URL:https://newwinemin.com
X-WR-CALDESC:Events for New Wine Ministry Church
REFRESH-INTERVAL;VALUE=DURATION:PT1H
X-Robots-Tag:noindex
X-PUBLISHED-TTL:PT1H
BEGIN:VTIMEZONE
TZID:America/New_York
BEGIN:DAYLIGHT
TZOFFSETFROM:-0500
TZOFFSETTO:-0400
TZNAME:EDT
DTSTART:20220313T070000
END:DAYLIGHT
BEGIN:STANDARD
TZOFFSETFROM:-0400
TZOFFSETTO:-0500
TZNAME:EST
DTSTART:20221106T060000
END:STANDARD
END:VTIMEZONE
BEGIN:VEVENT
DTSTART;TZID=America/New_York:20220111T140000
DTEND;TZID=America/New_York:20220111T170000
DTSTAMP:20260422T133404
CREATED:20220107T211425Z
LAST-MODIFIED:20220107T211642Z
UID:1801-1641909600-1641920400@newwinemin.com
SUMMARY:Celebrate Israel with Ambassador David Friedman
DESCRIPTION:Boca Raton Synagogue and the Latino Coalition for Israel invite you to: \nCELEBRATE ISRAEL\nJanuary 11\, 2022 at 7:00PM \nKeynote presentation with:  \n\nAmbassador David Friedman\n“Defending Israel in Politics & the Media”\n\nFeaturing:  \n\nRabbi Efrem Goldberg\nEllie Cohanim\nBen Shapiro\nPastor Mario Bramnick\nRabbi Yitzchak Adlerstein
URL:https://newwinemin.com/event/celebrate-israel-with-ambassador-david-friedman/
LOCATION:FL
CATEGORIES:Celebrate Israel,Special Event
END:VEVENT
END:VCALENDAR