BEGIN:VCALENDAR
VERSION:2.0
PRODID:-//New Wine Ministry Church - ECPv6.10.1.1//NONSGML v1.0//EN
CALSCALE:GREGORIAN
METHOD:PUBLISH
X-ORIGINAL-URL:https://newwinemin.com
X-WR-CALDESC:Events for New Wine Ministry Church
REFRESH-INTERVAL;VALUE=DURATION:PT1H
X-Robots-Tag:noindex
X-PUBLISHED-TTL:PT1H
BEGIN:VTIMEZONE
TZID:America/New_York
BEGIN:DAYLIGHT
TZOFFSETFROM:-0500
TZOFFSETTO:-0400
TZNAME:EDT
DTSTART:20230312T070000
END:DAYLIGHT
BEGIN:STANDARD
TZOFFSETFROM:-0400
TZOFFSETTO:-0500
TZNAME:EST
DTSTART:20231105T060000
END:STANDARD
BEGIN:DAYLIGHT
TZOFFSETFROM:-0500
TZOFFSETTO:-0400
TZNAME:EDT
DTSTART:20240310T070000
END:DAYLIGHT
BEGIN:STANDARD
TZOFFSETFROM:-0400
TZOFFSETTO:-0500
TZNAME:EST
DTSTART:20241103T060000
END:STANDARD
BEGIN:DAYLIGHT
TZOFFSETFROM:-0500
TZOFFSETTO:-0400
TZNAME:EDT
DTSTART:20250309T070000
END:DAYLIGHT
BEGIN:STANDARD
TZOFFSETFROM:-0400
TZOFFSETTO:-0500
TZNAME:EST
DTSTART:20251102T060000
END:STANDARD
BEGIN:DAYLIGHT
TZOFFSETFROM:-0500
TZOFFSETTO:-0400
TZNAME:EDT
DTSTART:20260308T070000
END:DAYLIGHT
BEGIN:STANDARD
TZOFFSETFROM:-0400
TZOFFSETTO:-0500
TZNAME:EST
DTSTART:20261101T060000
END:STANDARD
END:VTIMEZONE
BEGIN:VEVENT
DTSTART;TZID=America/New_York:20230202T170000
DTEND;TZID=America/New_York:20230203T170000
DTSTAMP:20260422T175114
CREATED:20230126T041635Z
LAST-MODIFIED:20230201T213040Z
UID:5087-1675357200-1675443600@newwinemin.com
SUMMARY:SCHOOL OF APOSTLES - WITH DR. CHÉ AHN
DESCRIPTION:Register Now \nGod is doing a new thing in 2023. Even amidst the continued global shaking\, convergence is taking place for a tremendous harvest. Now is the time to raise up the next generation of apostolic leaders and receive a special impartation in this new season of reformation. \nJoin us at the School of Apostles: A New Season of Reformation on February 2-3\, 2023\, hosted with Wagner University (WU) in Cooper City\, Florida. \nThe School of Apostles (SOA) will feature apostolic mentoring with Dr. Ché Ahn\, President of Harvest International Ministry and International Chancellor of WU. We will also be joined by Apostle Mario Bramnick and special guest Paul Wilbur. \nSOA was created to further develop the apostolic giftings and callings of leaders in the Body of Christ. Come hear what the Holy Spirit is saying to the Church and partner with God’s unique assignment for you in this prophetic season! \nSchedule Overview \nThursday\, February 2\n– 5:00 PM – 8:30 PM\nFriday\, February 3\n– 9:30 AM – 5:00 PM \n*Note: Spanish translation available. Traducción al español.
URL:https://newwinemin.com/event/school-of-apostles-with-dr-che-ahn/
LOCATION:Main Sanctuary (206)\, 12349 SW 53rd ST\, Suite 206\, Cooper City\, 33330\, United States
END:VEVENT
BEGIN:VEVENT
DTSTART;TZID=America/New_York:20230203T193000
DTEND;TZID=America/New_York:20230204T170000
DTSTAMP:20260422T175114
CREATED:20230201T213338Z
LAST-MODIFIED:20230201T213401Z
UID:5092-1675452600-1675530000@newwinemin.com
SUMMARY:Wagner U Intensive
DESCRIPTION:
URL:https://newwinemin.com/event/wagner-u-intensive/
LOCATION:Main Sanctuary (206)\, 12349 SW 53rd ST\, Suite 206\, Cooper City\, 33330\, United States
END:VEVENT
BEGIN:VEVENT
DTSTART;TZID=America/New_York:20230311T093000
DTEND;TZID=America/New_York:20230311T120000
DTSTAMP:20260422T175114
CREATED:20230306T135255Z
LAST-MODIFIED:20230306T135255Z
UID:5094-1678527000-1678536000@newwinemin.com
SUMMARY:For Such a Time as This: Responding to God's Calling 
DESCRIPTION:For Such a Time as This: Responding to God’s Calling \nEsther 4:14 \nSaturday\, March 11\, 2023\n9:30 am to 12:00 pm\nFollowed by Light lunch \nPlease\, sign up at the table in the Lobby\nor call Margarita at (954) 270-6220
URL:https://newwinemin.com/event/for-such-a-time-as-this-responding-to-gods-calling/
LOCATION:Main Sanctuary (206)\, 12349 SW 53rd ST\, Suite 206\, Cooper City\, 33330\, United States
CATEGORIES:Women of Faith
END:VEVENT
BEGIN:VEVENT
DTSTART;TZID=America/New_York:20230506T083000
DTEND;TZID=America/New_York:20230506T110000
DTSTAMP:20260422T175114
CREATED:20230425T201811Z
LAST-MODIFIED:20230427T124449Z
UID:5102-1683361800-1683370800@newwinemin.com
SUMMARY:Mother's Day Celebration of Women
DESCRIPTION:Join our Celebration of Women\nBreakfast Event\n    Signature Grand – Davie\, FL\n\n       Saturday\, May 6\, 2023\nSign-in begins: 8:30 AM\nKeynote Speaker: Pastor Asela Bramnick\nRegistration Deadline: April 30\n   Sign-up in Church Lobby or\nCall Church Office (954) 680-9909\nCost: Church members: $20 Non-members: $25\n   Questions? Call Margarita  (954) 270-6220 or \n   New Wine Ministries Office  (954) 680-9909
URL:https://newwinemin.com/event/mothers-day-celebration-of-women/
LOCATION:Signature Grand\, 6900 State Road 84\, Davie\, FL\, 33317\, United States
CATEGORIES:Women of Faith
END:VEVENT
BEGIN:VEVENT
DTSTART;VALUE=DATE:20230507
DTEND;VALUE=DATE:20230529
DTSTAMP:20260422T175114
CREATED:20230507T225755Z
LAST-MODIFIED:20230507T225755Z
UID:5111-1683417600-1685318399@newwinemin.com
SUMMARY:Isaiah 62 Fast and Prayer for Israel
DESCRIPTION:Join over 1 million believers who will engage in prayer for Israel for at least one hour a day for 21 days (May 7-28) for the increase of God’s salvation promises and plans for Jerusalem and Israel. Some will pray alone and others will pray with 2 or more (Mt. 18:20)—virtually or in-person—in their home\, office\, dorm\, or at their church\, etc. \n6On your walls\, O Jerusalem\, I have appointed [set\, KJV] watchmen; all day and all night they will never keep silent. You [intercessors] who remind the Lord\, take no rest for yourselves; 7And give Him no rest until He makes Jerusalem a praise in the earth [at Jesus’ return]. (Isa. 62:6-7\, NAS) \n  \n 
URL:https://newwinemin.com/event/isaiah-62-fast-and-prayer-for-israel/
LOCATION:FL
END:VEVENT
BEGIN:VEVENT
DTSTART;TZID=America/New_York:20230519T193000
DTEND;TZID=America/New_York:20230519T213000
DTSTAMP:20260422T175114
CREATED:20230517T210248Z
LAST-MODIFIED:20230517T210248Z
UID:5123-1684524600-1684531800@newwinemin.com
SUMMARY:Intercessory Prayer Service
DESCRIPTION:New Wine Ministries is having a special Intercessory Prayer Service this Friday night.\n\n\nCOME JOIN US!
URL:https://newwinemin.com/event/intercessory-prayer-service/
LOCATION:New Wine Ministries Suite #203\, 12349 SW 53rd St. #203\, Cooper City\, FL\, 33330\, United States
END:VEVENT
BEGIN:VEVENT
DTSTART;TZID=America/New_York:20230528T100000
DTEND;TZID=America/New_York:20230528T130000
DTSTAMP:20260422T175114
CREATED:20230525T152639Z
LAST-MODIFIED:20230525T154239Z
UID:5140-1685268000-1685278800@newwinemin.com
SUMMARY:Pentecost Sunday - The Glory Rising
DESCRIPTION:
URL:https://newwinemin.com/event/pentecost-sunday/
LOCATION:New Wine Ministries Suite #203\, 12349 SW 53rd St. #203\, Cooper City\, FL\, 33330\, United States
END:VEVENT
BEGIN:VEVENT
DTSTART;TZID=America/New_York:20240520T080000
DTEND;TZID=America/New_York:20240520T170000
DTSTAMP:20260422T175114
CREATED:20240520T164827Z
LAST-MODIFIED:20240520T165523Z
UID:5498-1716192000-1716224400@newwinemin.com
SUMMARY:RSVP Test
DESCRIPTION:Content is protected.
URL:https://newwinemin.com/event/rsvp-test/
LOCATION:FL
CATEGORIES:Special Event
END:VEVENT
BEGIN:VEVENT
DTSTART;TZID=America/New_York:20240716T190000
DTEND;TZID=America/New_York:20240716T203000
DTSTAMP:20260422T175114
CREATED:20240509T141724Z
LAST-MODIFIED:20240626T163804Z
UID:5475-1721156400-1721161800@newwinemin.com
SUMMARY:Eagles Vision Bible Study
DESCRIPTION:
URL:https://newwinemin.com/event/eagles-vision-bible-study/
LOCATION:Palma Ranch\, 5301 SW 190th Avenue\, Southwest Ranches
END:VEVENT
BEGIN:VEVENT
DTSTART;TZID=America/New_York:20250921T100000
DTEND;TZID=America/New_York:20250921T130000
DTSTAMP:20260422T175114
CREATED:20241227T003742Z
LAST-MODIFIED:20250915T183336Z
UID:5681-1758448800-1758459600@newwinemin.com
SUMMARY:Sunday Service
DESCRIPTION:
URL:https://newwinemin.com/event/sunday-service-2/
LOCATION:New Wine Ministries Suite #203\, 12349 SW 53rd St. #203\, Cooper City\, FL\, 33330\, United States
END:VEVENT
BEGIN:VEVENT
DTSTART;TZID=America/New_York:20260109T190000
DTEND;TZID=America/New_York:20260109T210000
DTSTAMP:20260422T175114
CREATED:20250905T192310Z
LAST-MODIFIED:20251219T223132Z
UID:5901-1767985200-1767992400@newwinemin.com
SUMMARY:Worship\, Fellowship & Talent
DESCRIPTION:
URL:https://newwinemin.com/event/worship-fellowship-talent/
LOCATION:New Wine Ministries Suite #203\, 12349 SW 53rd St. #203\, Cooper City\, FL\, 33330\, United States
CATEGORIES:Special Event
END:VEVENT
BEGIN:VEVENT
DTSTART;TZID=America/New_York:20260321T130000
DTEND;TZID=America/New_York:20260321T160000
DTSTAMP:20260422T175114
CREATED:20260311T135114Z
LAST-MODIFIED:20260311T135114Z
UID:5997-1774098000-1774108800@newwinemin.com
SUMMARY:Gen-Z -- The History that Shaped You
DESCRIPTION:
URL:https://newwinemin.com/event/gen-z-the-history-that-shaped-you/
LOCATION:New Wine Ministries\, 12349 SW 53rd St\, #204\, Cooper City\, FL\, 33330\, United States
ATTACH;FMTTYPE=image/png:https://newwinemin.com/wp-content/uploads/2026/03/Gen-Z-3-21-26-History-Flyer-March-1p.png
END:VEVENT
BEGIN:VEVENT
DTSTART;TZID=America/New_York:20260328T100000
DTEND;TZID=America/New_York:20260328T113000
DTSTAMP:20260422T175114
CREATED:20230507T232501Z
LAST-MODIFIED:20260323T142827Z
UID:5112-1774692000-1774697400@newwinemin.com
SUMMARY:Spring 2026 Marriage Class
DESCRIPTION: 
URL:https://newwinemin.com/event/marriage_class/
LOCATION:New Wine Ministries\, 12349 SW 53rd St\, #204\, Cooper City\, FL\, 33330\, United States
END:VEVENT
BEGIN:VEVENT
DTSTART;TZID=America/New_York:20260403T193000
DTEND;TZID=America/New_York:20260404T210000
DTSTAMP:20260422T175114
CREATED:20241025T030153Z
LAST-MODIFIED:20260330T230734Z
UID:5643-1775244600-1775336400@newwinemin.com
SUMMARY:Friday Night Service -
DESCRIPTION:
URL:https://newwinemin.com/event/friday-night-service-2/
LOCATION:New Wine Ministries Suite #203\, 12349 SW 53rd St. #203\, Cooper City\, FL\, 33330\, United States
ATTACH;FMTTYPE=image/jpeg:https://newwinemin.com/wp-content/uploads/2026/03/GOOD-FIRDAY-FLYER-04-03-26.jpg
END:VEVENT
BEGIN:VEVENT
DTSTART;TZID=America/New_York:20260405T100000
DTEND;TZID=America/New_York:20260405T130000
DTSTAMP:20260422T175114
CREATED:20250918T125618Z
LAST-MODIFIED:20260323T154034Z
UID:5911-1775383200-1775394000@newwinemin.com
SUMMARY:Resurrection Sunday Service
DESCRIPTION:
URL:https://newwinemin.com/event/sunday-service/
LOCATION:New Wine Ministries Suite #203\, 12349 SW 53rd St. #203\, Cooper City\, FL\, 33330\, United States
ATTACH;FMTTYPE=image/jpeg:https://newwinemin.com/wp-content/uploads/2026/03/4-5-26-sunday-service.jpeg
END:VEVENT
BEGIN:VEVENT
DTSTART;TZID=America/New_York:20260405T100000
DTEND;TZID=America/New_York:20260405T130000
DTSTAMP:20260422T175114
CREATED:20260311T140320Z
LAST-MODIFIED:20260330T230622Z
UID:6000-1775383200-1775394000@newwinemin.com
SUMMARY:Sow a Seed\, Make a Difference
DESCRIPTION:
URL:https://newwinemin.com/event/sow-a-seed-make-a-difference/
LOCATION:New Wine Ministries\, 12349 SW 53rd St\, #204\, Cooper City\, FL\, 33330\, United States
ATTACH;FMTTYPE=image/png:https://newwinemin.com/wp-content/uploads/2026/03/Sow-a-seed-make-a-difference-REVISE-WITHOUT-THE-DATE.png
END:VEVENT
BEGIN:VEVENT
DTSTART;TZID=America/New_York:20260411T093000
DTEND;TZID=America/New_York:20260411T120000
DTSTAMP:20260422T175114
CREATED:20240602T022901Z
LAST-MODIFIED:20260327T165742Z
UID:5511-1775899800-1775908800@newwinemin.com
SUMMARY:Women of Faith - Women's Meeting
DESCRIPTION:
URL:https://newwinemin.com/event/women-of-faith-womens-meeting/
LOCATION:New Wine Ministries Suite #203\, 12349 SW 53rd St. #203\, Cooper City\, FL\, 33330\, United States
ATTACH;FMTTYPE=image/png:https://newwinemin.com/wp-content/uploads/2026/03/april-womens-meeting.png
END:VEVENT
BEGIN:VEVENT
DTSTART;TZID=America/New_York:20260411T093000
DTEND;TZID=America/New_York:20260411T120000
DTSTAMP:20260422T175114
CREATED:20240706T220132Z
LAST-MODIFIED:20260327T165539Z
UID:5543-1775899800-1775908800@newwinemin.com
SUMMARY:Better Together Men's Ministry
DESCRIPTION:
URL:https://newwinemin.com/event/mens-ministry/
LOCATION:New Wine Ministries\, 12349 SW 53rd St\, #204\, Cooper City\, FL\, 33330\, United States
ATTACH;FMTTYPE=image/jpeg:https://newwinemin.com/wp-content/uploads/2026/03/april-mens-meeting.jpeg
END:VEVENT
END:VCALENDAR