BEGIN:VCALENDAR
VERSION:2.0
PRODID:-//New Wine Ministry Church - ECPv6.10.1.1//NONSGML v1.0//EN
CALSCALE:GREGORIAN
METHOD:PUBLISH
X-ORIGINAL-URL:https://newwinemin.com
X-WR-CALDESC:Events for New Wine Ministry Church
REFRESH-INTERVAL;VALUE=DURATION:PT1H
X-Robots-Tag:noindex
X-PUBLISHED-TTL:PT1H
BEGIN:VTIMEZONE
TZID:America/New_York
BEGIN:DAYLIGHT
TZOFFSETFROM:-0500
TZOFFSETTO:-0400
TZNAME:EDT
DTSTART:20260308T070000
END:DAYLIGHT
BEGIN:STANDARD
TZOFFSETFROM:-0400
TZOFFSETTO:-0500
TZNAME:EST
DTSTART:20261101T060000
END:STANDARD
END:VTIMEZONE
BEGIN:VEVENT
DTSTART;TZID=America/New_York:20260509T093000
DTEND;TZID=America/New_York:20260509T120000
DTSTAMP:20260425T061653
CREATED:20240706T220132Z
LAST-MODIFIED:20260424T195651Z
UID:5543-1778319000-1778328000@newwinemin.com
SUMMARY:Better Together Men's Ministry
DESCRIPTION:
URL:https://newwinemin.com/event/mens-ministry/
LOCATION:New Wine Ministries\, 12349 SW 53rd St\, #204\, Cooper City\, FL\, 33330\, United States
ATTACH;FMTTYPE=image/jpeg:https://newwinemin.com/wp-content/uploads/2026/04/MENS-MINISTRY-FLYER-05-09-2026.1p.jpg
END:VEVENT
BEGIN:VEVENT
DTSTART;TZID=America/New_York:20260509T150000
DTEND;TZID=America/New_York:20260509T180000
DTSTAMP:20260425T061653
CREATED:20260424T200646Z
LAST-MODIFIED:20260424T200646Z
UID:6022-1778338800-1778349600@newwinemin.com
SUMMARY:Go Ye Evangelism Team
DESCRIPTION:
URL:https://newwinemin.com/event/go-ye-evangelism-team/
LOCATION:New Wine Ministries Suite #203\, 12349 SW 53rd St. #203\, Cooper City\, FL\, 33330\, United States
ATTACH;FMTTYPE=image/png:https://newwinemin.com/wp-content/uploads/2026/04/EVANGELISM-Team-4-09-2026-1p-.png
END:VEVENT
BEGIN:VEVENT
DTSTART;TZID=America/New_York:20260516T090000
DTEND;TZID=America/New_York:20260516T153000
DTSTAMP:20260425T061653
CREATED:20240602T022901Z
LAST-MODIFIED:20260424T195941Z
UID:5511-1778922000-1778945400@newwinemin.com
SUMMARY:Women of Faith - Women's Meeting
DESCRIPTION:
URL:https://newwinemin.com/event/women-of-faith-womens-meeting/
LOCATION:New Wine Ministries Suite #203\, 12349 SW 53rd St. #203\, Cooper City\, FL\, 33330\, United States
ATTACH;FMTTYPE=image/jpeg:https://newwinemin.com/wp-content/uploads/2026/04/women-seminar-5-16-26-1p.jpg
END:VEVENT
END:VCALENDAR