BEGIN:VCALENDAR
VERSION:2.0
PRODID:-//New Wine Ministry Church - ECPv6.10.1.1//NONSGML v1.0//EN
CALSCALE:GREGORIAN
METHOD:PUBLISH
X-ORIGINAL-URL:https://newwinemin.com
X-WR-CALDESC:Events for New Wine Ministry Church
REFRESH-INTERVAL;VALUE=DURATION:PT1H
X-Robots-Tag:noindex
X-PUBLISHED-TTL:PT1H
BEGIN:VTIMEZONE
TZID:America/New_York
BEGIN:DAYLIGHT
TZOFFSETFROM:-0500
TZOFFSETTO:-0400
TZNAME:EDT
DTSTART:20220313T070000
END:DAYLIGHT
BEGIN:STANDARD
TZOFFSETFROM:-0400
TZOFFSETTO:-0500
TZNAME:EST
DTSTART:20221106T060000
END:STANDARD
END:VTIMEZONE
BEGIN:VEVENT
DTSTART;TZID=America/New_York:20220102T050000
DTEND;TZID=America/New_York:20220102T080000
DTSTAMP:20260422T120453
CREATED:20211230T214621Z
LAST-MODIFIED:20211231T090218Z
UID:1758-1641099600-1641110400@newwinemin.com
SUMMARY:Special Service: Word of the Lord for 2022
DESCRIPTION:
URL:https://newwinemin.com/event/word-of-the-lord-for-2022/
LOCATION:FL
CATEGORIES:Special Service
END:VEVENT
BEGIN:VEVENT
DTSTART;TZID=America/New_York:20220108T043000
DTEND;TZID=America/New_York:20220108T070000
DTSTAMP:20260422T120453
CREATED:20211231T085605Z
LAST-MODIFIED:20211231T085714Z
UID:1762-1641616200-1641625200@newwinemin.com
SUMMARY:Women of Faith: Establishing Your 2022!
DESCRIPTION:WOMEN OF FAITH MINISTRY MEETING \nESTABLISHING YOUR 2022!\nGuest Speaker: Silvia Sauve \nSaturday\, January 8th\n9:30 am followed by light lunch\n12349 SW 53rd Street #203\nCooper City FL 33330 \nPlease sign up at table in the lobby\nOr call Margarita at 954-270-6220
URL:https://newwinemin.com/event/women-of-faith-establishing-your-2022/
LOCATION:New Wine Ministries Suite #203\, 12349 SW 53rd St. #203\, Cooper City\, FL\, 33330\, United States
CATEGORIES:Special Event,Women of Faith
END:VEVENT
BEGIN:VEVENT
DTSTART;TZID=America/New_York:20220111T140000
DTEND;TZID=America/New_York:20220111T170000
DTSTAMP:20260422T120453
CREATED:20220107T211425Z
LAST-MODIFIED:20220107T211642Z
UID:1801-1641909600-1641920400@newwinemin.com
SUMMARY:Celebrate Israel with Ambassador David Friedman
DESCRIPTION:Boca Raton Synagogue and the Latino Coalition for Israel invite you to: \nCELEBRATE ISRAEL\nJanuary 11\, 2022 at 7:00PM \nKeynote presentation with:  \n\nAmbassador David Friedman\n“Defending Israel in Politics & the Media”\n\nFeaturing:  \n\nRabbi Efrem Goldberg\nEllie Cohanim\nBen Shapiro\nPastor Mario Bramnick\nRabbi Yitzchak Adlerstein
URL:https://newwinemin.com/event/celebrate-israel-with-ambassador-david-friedman/
LOCATION:FL
CATEGORIES:Celebrate Israel,Special Event
END:VEVENT
END:VCALENDAR