BEGIN:VCALENDAR
VERSION:2.0
PRODID:-//New Wine Ministry Church - ECPv6.10.1.1//NONSGML v1.0//EN
CALSCALE:GREGORIAN
METHOD:PUBLISH
X-ORIGINAL-URL:https://newwinemin.com
X-WR-CALDESC:Events for New Wine Ministry Church
REFRESH-INTERVAL;VALUE=DURATION:PT1H
X-Robots-Tag:noindex
X-PUBLISHED-TTL:PT1H
BEGIN:VTIMEZONE
TZID:America/New_York
BEGIN:DAYLIGHT
TZOFFSETFROM:-0500
TZOFFSETTO:-0400
TZNAME:EDT
DTSTART:20230312T070000
END:DAYLIGHT
BEGIN:STANDARD
TZOFFSETFROM:-0400
TZOFFSETTO:-0500
TZNAME:EST
DTSTART:20231105T060000
END:STANDARD
END:VTIMEZONE
BEGIN:VEVENT
DTSTART;TZID=America/New_York:20230506T083000
DTEND;TZID=America/New_York:20230506T110000
DTSTAMP:20260421T104048
CREATED:20230425T201811Z
LAST-MODIFIED:20230427T124449Z
UID:5102-1683361800-1683370800@newwinemin.com
SUMMARY:Mother's Day Celebration of Women
DESCRIPTION:Join our Celebration of Women\nBreakfast Event\n    Signature Grand – Davie\, FL\n\n       Saturday\, May 6\, 2023\nSign-in begins: 8:30 AM\nKeynote Speaker: Pastor Asela Bramnick\nRegistration Deadline: April 30\n   Sign-up in Church Lobby or\nCall Church Office (954) 680-9909\nCost: Church members: $20 Non-members: $25\n   Questions? Call Margarita  (954) 270-6220 or \n   New Wine Ministries Office  (954) 680-9909
URL:https://newwinemin.com/event/mothers-day-celebration-of-women/
LOCATION:Signature Grand\, 6900 State Road 84\, Davie\, FL\, 33317\, United States
CATEGORIES:Women of Faith
END:VEVENT
BEGIN:VEVENT
DTSTART;VALUE=DATE:20230507
DTEND;VALUE=DATE:20230529
DTSTAMP:20260421T104048
CREATED:20230507T225755Z
LAST-MODIFIED:20230507T225755Z
UID:5111-1683417600-1685318399@newwinemin.com
SUMMARY:Isaiah 62 Fast and Prayer for Israel
DESCRIPTION:Join over 1 million believers who will engage in prayer for Israel for at least one hour a day for 21 days (May 7-28) for the increase of God’s salvation promises and plans for Jerusalem and Israel. Some will pray alone and others will pray with 2 or more (Mt. 18:20)—virtually or in-person—in their home\, office\, dorm\, or at their church\, etc. \n6On your walls\, O Jerusalem\, I have appointed [set\, KJV] watchmen; all day and all night they will never keep silent. You [intercessors] who remind the Lord\, take no rest for yourselves; 7And give Him no rest until He makes Jerusalem a praise in the earth [at Jesus’ return]. (Isa. 62:6-7\, NAS) \n  \n 
URL:https://newwinemin.com/event/isaiah-62-fast-and-prayer-for-israel/
LOCATION:FL
END:VEVENT
BEGIN:VEVENT
DTSTART;TZID=America/New_York:20230519T193000
DTEND;TZID=America/New_York:20230519T213000
DTSTAMP:20260421T104048
CREATED:20230517T210248Z
LAST-MODIFIED:20230517T210248Z
UID:5123-1684524600-1684531800@newwinemin.com
SUMMARY:Intercessory Prayer Service
DESCRIPTION:New Wine Ministries is having a special Intercessory Prayer Service this Friday night.\n\n\nCOME JOIN US!
URL:https://newwinemin.com/event/intercessory-prayer-service/
LOCATION:New Wine Ministries Suite #203\, 12349 SW 53rd St. #203\, Cooper City\, FL\, 33330\, United States
END:VEVENT
BEGIN:VEVENT
DTSTART;TZID=America/New_York:20230528T100000
DTEND;TZID=America/New_York:20230528T130000
DTSTAMP:20260421T104048
CREATED:20230525T152639Z
LAST-MODIFIED:20230525T154239Z
UID:5140-1685268000-1685278800@newwinemin.com
SUMMARY:Pentecost Sunday - The Glory Rising
DESCRIPTION:
URL:https://newwinemin.com/event/pentecost-sunday/
LOCATION:New Wine Ministries Suite #203\, 12349 SW 53rd St. #203\, Cooper City\, FL\, 33330\, United States
END:VEVENT
END:VCALENDAR